BEGIN:VCALENDAR
VERSION:2.0
PRODID:-//Išmok apginti save! - ECPv4.5.13//NONSGML v1.0//EN
CALSCALE:GREGORIAN
METHOD:PUBLISH
X-WR-CALNAME:Išmok apginti save!
X-ORIGINAL-URL:https://savigyna.lt
X-WR-CALDESC:Events for Išmok apginti save!
BEGIN:VEVENT
DTSTART;TZID=UTC+0:20160510T193000
DTEND;TZID=UTC+0:20160510T210000
DTSTAMP:20260424T091741
CREATED:20160426T110917Z
LAST-MODIFIED:20160426T120331Z
UID:2239-1462908600-1462914000@savigyna.lt
SUMMARY:Savigynos kursai A.R.M.O.R. Trečia treniruotė Vilniuje!
DESCRIPTION:Trečia treniruotė: Gynyba pieš pagrindinius smūgius: aukštą\, žemą ir smūgį “kabliu” (lanku). I dalis \n
URL:/wing-tsun-kungfu-kovos-menas-renginai/savigynos-kursai-r-m-o-r-trecia-treniruote-vilniuje/
LOCATION:Studentų g. 39\, Vilnius
CATEGORIES:Renginiai
END:VEVENT
END:VCALENDAR