BEGIN:VCALENDAR
VERSION:2.0
PRODID:-//Išmok apginti save! - ECPv4.5.13//NONSGML v1.0//EN
CALSCALE:GREGORIAN
METHOD:PUBLISH
X-WR-CALNAME:Išmok apginti save!
X-ORIGINAL-URL:https://savigyna.lt
X-WR-CALDESC:Events for Išmok apginti save!
BEGIN:VEVENT
DTSTART;TZID=UTC+0:20160613T203000
DTEND;TZID=UTC+0:20160613T210000
DTSTAMP:20260420T132454
CREATED:20160601T081104Z
LAST-MODIFIED:20160601T081104Z
UID:2321-1465849800-1465851600@savigyna.lt
SUMMARY:Savigynos kursai A.R.M.O.R. trečia treniruotė Vilniaus Centro klube! Bazinė programa II grupė .
DESCRIPTION:\nTrečia treniruotė: Gynyba pieš pagrindinius smūgius: aukštą\, žemą ir smūgį “kabliu” (lanku). I dalis \n\n
URL:/wing-tsun-kungfu-kovos-menas-renginai/savigynos-kursai-r-m-o-r-trecia-treniruote-vilniaus-centro-klube-bazine-programa-ii-grupe/
LOCATION:Studentų g. 39\, Vilnius
CATEGORIES:Renginiai
END:VEVENT
END:VCALENDAR