BEGIN:VCALENDAR
VERSION:2.0
PRODID:-//Išmok apginti save! - ECPv4.5.13//NONSGML v1.0//EN
CALSCALE:GREGORIAN
METHOD:PUBLISH
X-WR-CALNAME:Išmok apginti save!
X-ORIGINAL-URL:https://savigyna.lt
X-WR-CALDESC:Events for Išmok apginti save!
BEGIN:VEVENT
DTSTART;TZID=UTC+0:20160608T193000
DTEND;TZID=UTC+0:20160608T210000
DTSTAMP:20260421T051238
CREATED:20160426T105912Z
LAST-MODIFIED:20160501T144828Z
UID:2235-1465414200-1465419600@savigyna.lt
SUMMARY:Savigynos kursai A.R.M.O.R.Trečia treniruotė Šiauliuose!
DESCRIPTION:Trečia treniruotė: Gynyba pieš pagrindinius smūgius: aukštą\, žemą ir smūgį “kabliu” (lanku). I dalis \n
URL:/wing-tsun-kungfu-kovos-menas-renginai/savigynos-kursai-r-m-o-r-trecia-treniruote-siauliuose/
LOCATION:Rūdės g. 27F\, Šiauliai
CATEGORIES:Renginiai
END:VEVENT
END:VCALENDAR