BEGIN:VCALENDAR
VERSION:2.0
PRODID:-//Išmok apginti save! - ECPv4.5.13//NONSGML v1.0//EN
CALSCALE:GREGORIAN
METHOD:PUBLISH
X-WR-CALNAME:Išmok apginti save!
X-ORIGINAL-URL:https://savigyna.lt
X-WR-CALDESC:Events for Išmok apginti save!
BEGIN:VEVENT
DTSTART;TZID=UTC+0:20160519T183000
DTEND;TZID=UTC+0:20160519T200000
DTSTAMP:20260423T101124
CREATED:20160426T114240Z
LAST-MODIFIED:20160426T114240Z
UID:2269-1463682600-1463688000@savigyna.lt
SUMMARY:Savigynos kursai A.R.M.O.R. Šešta treniruotė Klaipėdoje!
DESCRIPTION:Šešta treniruotė: Smūgiavimas delnu. Gynyba prieš spyrius lanku. Spyrio keliu technika.  \n
URL:/wing-tsun-kungfu-kovos-menas-renginai/savigynos-kursai-r-m-o-r-sesta-treniruote-klaipedoje-2/
LOCATION:Danės g. 29\, Klaipėda. Darželio "Boružėlė" sporto salė.
CATEGORIES:Renginiai
END:VEVENT
END:VCALENDAR