BEGIN:VCALENDAR
VERSION:2.0
PRODID:-//Išmok apginti save! - ECPv4.5.13//NONSGML v1.0//EN
CALSCALE:GREGORIAN
METHOD:PUBLISH
X-WR-CALNAME:Išmok apginti save!
X-ORIGINAL-URL:https://savigyna.lt
X-WR-CALDESC:Events for Išmok apginti save!
BEGIN:VEVENT
DTSTART;TZID=UTC+0:20160517T193000
DTEND;TZID=UTC+0:20160517T210000
DTSTAMP:20260423T192847
CREATED:20160426T112338Z
LAST-MODIFIED:20160426T112338Z
UID:2254-1463513400-1463518800@savigyna.lt
SUMMARY:Savigynos kursai A.R.M.O.R. Penkta treniruotė Vilniuje!
DESCRIPTION:Penkta treniruotė: Gynyba prieš tiesų spyrį bei šoninį griebimą; Smūgiavimo rankos briauna ir pirštais technikos  \n
URL:/wing-tsun-kungfu-kovos-menas-renginai/savigynos-kursai-r-m-o-r-penkta-treniruote-vilniuje/
LOCATION:Studentų g. 39\, Vilnius
CATEGORIES:Renginiai
END:VEVENT
END:VCALENDAR