BEGIN:VCALENDAR
VERSION:2.0
PRODID:-//Išmok apginti save! - ECPv4.5.13//NONSGML v1.0//EN
CALSCALE:GREGORIAN
METHOD:PUBLISH
X-WR-CALNAME:Išmok apginti save!
X-ORIGINAL-URL:https://savigyna.lt
X-WR-CALDESC:Events for Išmok apginti save!
BEGIN:VEVENT
DTSTART;TZID=UTC+0:20160620T200000
DTEND;TZID=UTC+0:20160620T213000
DTSTAMP:20260419T161303
CREATED:20160601T081304Z
LAST-MODIFIED:20160601T093059Z
UID:2323-1466452800-1466458200@savigyna.lt
SUMMARY:Savigynos kursai A.R.M.O.R. Penkta treniruotė Vilniaus Centro klube! Bazinė programa II grupė .
DESCRIPTION:Penkta treniruotė: Gynyba prieš tiesų spyrį bei šoninį griebimą; Smūgiavimo rankos briauna ir pirštais technikos \n
URL:/wing-tsun-kungfu-kovos-menas-renginai/savigynos-kursai-r-m-o-r-penkta-treniruote-vilniaus-centro-klube-bazine-programa-ii-grupe/
LOCATION:Studentų g. 39\, Vilnius
CATEGORIES:Renginiai
END:VEVENT
END:VCALENDAR