BEGIN:VCALENDAR
VERSION:2.0
PRODID:-//Išmok apginti save! - ECPv4.5.13//NONSGML v1.0//EN
CALSCALE:GREGORIAN
METHOD:PUBLISH
X-WR-CALNAME:Išmok apginti save!
X-ORIGINAL-URL:https://savigyna.lt
X-WR-CALDESC:Events for Išmok apginti save!
BEGIN:VEVENT
DTSTART;TZID=UTC+0:20160615T193000
DTEND;TZID=UTC+0:20160615T210000
DTSTAMP:20260420T073625
CREATED:20160426T111942Z
LAST-MODIFIED:20160501T144713Z
UID:2248-1466019000-1466024400@savigyna.lt
SUMMARY:Savigynos kursai A.R.M.O.R. Penkta treniruotė Šiauliuose!
DESCRIPTION:Penkta treniruotė: Gynyba prieš tiesų spyrį bei šoninį griebimą; Smūgiavimo rankos briauna ir pirštais technikos  \n
URL:/wing-tsun-kungfu-kovos-menas-renginai/savigynos-kursai-r-m-o-r-penkta-treniruote-siauliuose/
LOCATION:Rūdės g. 27F\, Šiauliai
CATEGORIES:Renginiai
END:VEVENT
END:VCALENDAR