BEGIN:VCALENDAR
VERSION:2.0
PRODID:-//Išmok apginti save! - ECPv4.5.13//NONSGML v1.0//EN
CALSCALE:GREGORIAN
METHOD:PUBLISH
X-WR-CALNAME:Išmok apginti save!
X-ORIGINAL-URL:https://savigyna.lt
X-WR-CALDESC:Events for Išmok apginti save!
BEGIN:VEVENT
DTSTART;TZID=UTC+0:20160517T193000
DTEND;TZID=UTC+0:20160517T210000
DTSTAMP:20260424T001143
CREATED:20160426T112229Z
LAST-MODIFIED:20160426T112229Z
UID:2252-1463513400-1463518800@savigyna.lt
SUMMARY:Savigynos kursai A.R.M.O.R. Penkta treniruotė Klaipėdoje!
DESCRIPTION:Penkta treniruotė: Gynyba prieš tiesų spyrį bei šoninį griebimą; Smūgiavimo rankos briauna ir pirštais technikos  \n
URL:/wing-tsun-kungfu-kovos-menas-renginai/savigynos-kursai-r-m-o-r-penkta-treniruote-klaipedoje/
LOCATION:Danės g. 29\, Klaipėda. Darželio "Boružėlė" sporto salė.
CATEGORIES:Renginiai
END:VEVENT
END:VCALENDAR