BEGIN:VCALENDAR
VERSION:2.0
PRODID:-//Išmok apginti save! - ECPv4.5.13//NONSGML v1.0//EN
CALSCALE:GREGORIAN
METHOD:PUBLISH
X-WR-CALNAME:Išmok apginti save!
X-ORIGINAL-URL:https://savigyna.lt
X-WR-CALDESC:Events for Išmok apginti save!
BEGIN:VEVENT
DTSTART;TZID=UTC+0:20160511T183000
DTEND;TZID=UTC+0:20160511T200000
DTSTAMP:20260424T062705
CREATED:20160426T105614Z
LAST-MODIFIED:20160426T105614Z
UID:2233-1462991400-1462996800@savigyna.lt
SUMMARY:Savigynos kursai A.R.M.O.R. Kevirta treniruotė Kaune!
DESCRIPTION:Ketvirta treniruotė: Gynyba pieš pagrindinius smūgius: aukštą\, žemą ir smūgį “kabliu” (lanku). II dalis \n
URL:/wing-tsun-kungfu-kovos-menas-renginai/savigynos-kursai-r-m-o-r-kevirta-treniruote-kaune/
LOCATION:Miško g. 3\, Kaunas
CATEGORIES:Renginiai
END:VEVENT
END:VCALENDAR