BEGIN:VCALENDAR
VERSION:2.0
PRODID:-//Išmok apginti save! - ECPv4.5.13//NONSGML v1.0//EN
CALSCALE:GREGORIAN
METHOD:PUBLISH
X-WR-CALNAME:Išmok apginti save!
X-ORIGINAL-URL:https://savigyna.lt
X-WR-CALDESC:Events for Išmok apginti save!
BEGIN:VEVENT
DTSTART;TZID=UTC+0:20160613T193000
DTEND;TZID=UTC+0:20160613T210000
DTSTAMP:20260420T182025
CREATED:20160426T110355Z
LAST-MODIFIED:20160501T144813Z
UID:2237-1465846200-1465851600@savigyna.lt
SUMMARY:Savigynos kursai A.R.M.O.R. Ketvirta treniruotė Šiauliuose!
DESCRIPTION:Ketvirta treniruotė: Gynyba pieš pagrindinius smūgius: aukštą\, žemą ir smūgį “kabliu” (lanku). II dalis \n
URL:/wing-tsun-kungfu-kovos-menas-renginai/savigynos-kursai-r-m-o-r-ketvirta-treniruote-siauliuose/
LOCATION:Rūdės g. 27F\, Šiauliai
CATEGORIES:Renginiai
END:VEVENT
END:VCALENDAR