BEGIN:VCALENDAR
VERSION:2.0
PRODID:-//Išmok apginti save! - ECPv4.5.13//NONSGML v1.0//EN
CALSCALE:GREGORIAN
METHOD:PUBLISH
X-WR-CALNAME:Išmok apginti save!
X-ORIGINAL-URL:https://savigyna.lt
X-WR-CALDESC:Events for Išmok apginti save!
BEGIN:VEVENT
DTSTART;TZID=UTC+0:20160526T183000
DTEND;TZID=UTC+0:20160526T200000
DTSTAMP:20260422T062642
CREATED:20160426T115637Z
LAST-MODIFIED:20160426T115637Z
UID:2279-1464287400-1464292800@savigyna.lt
SUMMARY:Paskutinė savigynos kursų A.R.M.O.R. Treniruotė Klaipėdoje!
DESCRIPTION:Aštunta treniruotė: Smūgiai alkūne ir gynyba prieš “apglėbimus” ar imtynių veiksmus.\nPažymėjimų įteikimas!  \n
URL:/wing-tsun-kungfu-kovos-menas-renginai/paskutine-savigynos-kursu-r-m-o-r-treniruote-klaipedoje/
LOCATION:Danės g. 29\, Klaipėda. Darželio "Boružėlė" sporto salė.
CATEGORIES:Renginiai
END:VEVENT
END:VCALENDAR